BEGIN:VCALENDAR
VERSION:2.0
PRODID:DPCALENDAR
CALSCALE:GREGORIAN
X-WR-TIMEZONE:UTC
BEGIN:VEVENT
DTSTART;VALUE=DATE:20260604
DTEND;VALUE=DATE:20260605
UID:30990716-6038-428B-B1BC-7E2C46AACA6F
SUMMARY:Grillfeier Posaunenchor
CREATED:20260331T201554Z
DTSTAMP:20260331T201554Z
URL:http://www.burgwald-ernsthausen.de/index.php/veranstaltungen/grillfeier-posaunenchor
LAST-MODIFIED:20260331T201655Z
SEQUENCE:61
LOCATION:Eichenstraße\, 35099 Burgwald-Ernsthausen
GEO:50.97935595;8.73159523
X-LOCATION-DISPLAYNAME:Grillhütte
X-ACCESS:1
X-HITS:8
X-COLOR:decf6a
X-SHOW-END-TIME:0
END:VEVENT
END:VCALENDAR