BEGIN:VCALENDAR
VERSION:2.0
PRODID:DPCALENDAR
CALSCALE:GREGORIAN
X-WR-TIMEZONE:UTC
BEGIN:VEVENT
DTSTART;VALUE=DATE:20260424
DTEND;VALUE=DATE:20260425
UID:42B4E9E7-FEBA-4E33-8414-A4347F84C303
SUMMARY:Jahreshauptversammlung
CREATED:20260331T200042Z
DTSTAMP:20260331T200042Z
URL:http://www.burgwald-ernsthausen.de/index.php/veranstaltungen/jahreshauptversammlung-18
LAST-MODIFIED:20260331T200309Z
SEQUENCE:147
LOCATION:Marburger Straße 19a\, 35099 Ernsthausen\, Hessen\, Deutschland
GEO:50.98178580;8.73372430
X-LOCATION-DISPLAYNAME:Gasthaus Goa
X-ACCESS:1
X-HITS:11
X-COLOR:033306
X-SHOW-END-TIME:0
END:VEVENT
END:VCALENDAR