BEGIN:VCALENDAR
VERSION:2.0
PRODID:DPCALENDAR
CALSCALE:GREGORIAN
X-WR-TIMEZONE:UTC
BEGIN:VEVENT
DTSTART;VALUE=DATE:20260128
DTEND;VALUE=DATE:20260129
UID:33FC7E11-D7A5-4A55-8D08-9A6799D51FC8
SUMMARY:Seniorennachmittag
CREATED:20260331T193822Z
DTSTAMP:20260331T193822Z
URL:http://www.burgwald-ernsthausen.de/index.php/veranstaltungen/seniorennachmittag
LAST-MODIFIED:20260331T194029Z
SEQUENCE:127
X-ACCESS:1
X-HITS:0
X-COLOR:b8b8b8
X-SHOW-END-TIME:0
END:VEVENT
BEGIN:VEVENT
DTSTART;VALUE=DATE:20260513
DTEND;VALUE=DATE:20260514
UID:6DA89958-7C8C-495C-8853-2D4A125D4804
SUMMARY:Senioren Nachmittag
CREATED:20260331T201308Z
DTSTAMP:20260331T201308Z
URL:http://www.burgwald-ernsthausen.de/index.php/veranstaltungen/senioren-nachmittag
LAST-MODIFIED:20260331T201308Z
SEQUENCE:0
LOCATION:Schulstraße 3\, 35099 Burgwald-Ernsthausen
GEO:50.97935595;8.73159523
X-LOCATION-DISPLAYNAME:DGH
X-ACCESS:1
X-HITS:11
X-COLOR:b8b8b8
X-SHOW-END-TIME:0
END:VEVENT
BEGIN:VEVENT
DTSTART;VALUE=DATE:20260819
DTEND;VALUE=DATE:20260820
UID:FFC8A70D-BE71-427A-B3F2-D2AE06C92584
SUMMARY:Seniorennachmittag
CREATED:20260331T202908Z
DTSTAMP:20260331T202908Z
URL:http://www.burgwald-ernsthausen.de/index.php/veranstaltungen/seniorennachmittag-2
LAST-MODIFIED:20260331T202951Z
SEQUENCE:43
LOCATION:Schulstraße 3\, 35099 Burgwald-Ernsthausen
GEO:50.97935595;8.73159523
X-LOCATION-DISPLAYNAME:DGH
X-ACCESS:1
X-HITS:10
X-COLOR:b8b8b8
X-SHOW-END-TIME:0
END:VEVENT
END:VCALENDAR