BEGIN:VCALENDAR
VERSION:2.0
PRODID:DPCALENDAR
CALSCALE:GREGORIAN
X-WR-TIMEZONE:UTC
BEGIN:VEVENT
DTSTART;VALUE=DATE:20260116
DTEND;VALUE=DATE:20260117
UID:957BFD97-8B1D-4816-B0D9-16253000EF4B
SUMMARY:Neujahrsempfang
CREATED:20260331T193207Z
DTSTAMP:20260331T193207Z
URL:http://www.burgwald-ernsthausen.de/index.php/veranstaltungen/neujahrsempfang
LAST-MODIFIED:20260331T193635Z
SEQUENCE:268
X-ACCESS:1
X-HITS:0
X-COLOR:ffbb11
X-SHOW-END-TIME:0
END:VEVENT
END:VCALENDAR